BEGIN:VCALENDAR
VERSION:2.0
PRODID:-//School District 57 DPAC - ECPv6.15.20//NONSGML v1.0//EN
CALSCALE:GREGORIAN
METHOD:PUBLISH
X-ORIGINAL-URL:https://sd57dpac.ca
X-WR-CALDESC:Events for School District 57 DPAC
REFRESH-INTERVAL;VALUE=DURATION:PT1H
X-Robots-Tag:noindex
X-PUBLISHED-TTL:PT1H
BEGIN:VTIMEZONE
TZID:America/Vancouver
BEGIN:DAYLIGHT
TZOFFSETFROM:-0800
TZOFFSETTO:-0700
TZNAME:PDT
DTSTART:20250309T100000
END:DAYLIGHT
BEGIN:STANDARD
TZOFFSETFROM:-0700
TZOFFSETTO:-0800
TZNAME:PST
DTSTART:20251102T090000
END:STANDARD
BEGIN:DAYLIGHT
TZOFFSETFROM:-0800
TZOFFSETTO:-0700
TZNAME:PDT
DTSTART:20260308T100000
END:DAYLIGHT
BEGIN:STANDARD
TZOFFSETFROM:-0700
TZOFFSETTO:-0800
TZNAME:PST
DTSTART:20261101T090000
END:STANDARD
BEGIN:DAYLIGHT
TZOFFSETFROM:-0800
TZOFFSETTO:-0700
TZNAME:PDT
DTSTART:20270314T100000
END:DAYLIGHT
BEGIN:STANDARD
TZOFFSETFROM:-0700
TZOFFSETTO:-0800
TZNAME:PST
DTSTART:20271107T090000
END:STANDARD
END:VTIMEZONE
BEGIN:VEVENT
DTSTART;TZID=America/Vancouver:20260407T183000
DTEND;TZID=America/Vancouver:20260407T210000
DTSTAMP:20260425T210539
CREATED:20260308T093952Z
LAST-MODIFIED:20260329T074151Z
UID:26814-1775586600-1775595600@sd57dpac.ca
SUMMARY:April 2026 DPAC Meeting
DESCRIPTION:We invite you to our DPAC Meeting on Tuesday April 7th\, 2026.  We will be meeting in-person at the Van Bien Training Center or online on MS Teams at 6:30pm. \nOur presentation this month will be from the Representative for Children and Youth by Tracey Eyles. Their organization is an independent oversight office that stands up for the rights of young people in BC. We look forward to bringing this resource for parents to engage with! \nDistrict Partners to join at 7:30pm. \nOffice of the Superintendent\nBoard of Education\nPrincipals and Vice-Principals Association\nPG District Teachers Association\nCUPE 3742 (inside workers)\nDistrict Student Advisory Council \n\n\nDOWNLOAD AGENDA\n\n\n  \nSee you Tuesday!\n\nSD57 DPAC Executive Team \n  \n________________________________________________________________________________ \nMicrosoft Teams Meeting \nJoin: https://teams.microsoft.com/meet/28269758891378?p=T2GscEm6mTU0NLNikA \nMeeting ID: 282 697 588 913 78 \nPasscode: p34Cb6Ya \n 
URL:https://sd57dpac.ca/event/april-2026-dpac-meeting/
LOCATION:Van Bien Training Center\, 311 Wilson Ave.\, Prince George\, BC\, Canada
CATEGORIES:Agenda,Events,Information Sharing,Monthly Meeting,PAC Networking,PACs
ATTACH;FMTTYPE=image/png:https://sd57dpac.ca/wp-content/uploads/2026/03/Monthly-Meeting-Event_20260329_001528_0000.png
ORGANIZER;CN="SD57 DPAC":MAILTO:info@sd57dpac.ca
END:VEVENT
BEGIN:VEVENT
DTSTART;VALUE=DATE:20260412
DTEND;VALUE=DATE:20260413
DTSTAMP:20260425T210539
CREATED:20260308T094029Z
LAST-MODIFIED:20260308T094029Z
UID:26812-1775952000-1776038399@sd57dpac.ca
SUMMARY:BCCPAC AGM Ordinary Resolutions
DESCRIPTION:Ordinary Resolutions for the 2026 BCCPAC AGM need to be submitted prior to April 12th to be included in the 2026 AGM Booklet. \nFor additional details please refer to the BCCPAC AGM Resolutions Submissions webpage.
URL:https://sd57dpac.ca/event/bccpac-agm-ordinary-resolutions/
END:VEVENT
BEGIN:VEVENT
DTSTART;TZID=America/Vancouver:20260416T183000
DTEND;TZID=America/Vancouver:20260416T203000
DTSTAMP:20260425T210539
CREATED:20260325T033707Z
LAST-MODIFIED:20260419T205130Z
UID:26895-1776364200-1776371400@sd57dpac.ca
SUMMARY:PAC Governance and Conflict Management
DESCRIPTION:EVENT UPDATE: \nMegan presented very informative and valuable information in PAC Governance and Conflict Resolution. The following helpful resources were provided after the event. \nScript PDF for PAC Chairs PDF \nChair Strategies PDF \nPrecedence of Motions PDF \nMultiple Amendments PDF \nView the post below for Megan’s Bio\, the agenda and Virtual Meeting Link. \nPAC Governance and Conflict Resolution Virtual Workshop \n \nWe hope to see you there!
URL:https://sd57dpac.ca/event/pac-governance-and-conflict-management/
LOCATION:Virtual via Microsoft Teams
CATEGORIES:Events,PAC Networking,PACs,Parents Networking
ATTACH;FMTTYPE=image/jpeg:https://sd57dpac.ca/wp-content/uploads/2026/03/PAC-Governance_20260321_193357_0000-e1774312962678.jpg
END:VEVENT
BEGIN:VEVENT
DTSTART;VALUE=DATE:20260424
DTEND;VALUE=DATE:20260425
DTSTAMP:20260425T210539
CREATED:20260308T094007Z
LAST-MODIFIED:20260308T094007Z
UID:26805-1776988800-1777075199@sd57dpac.ca
SUMMARY:2026 Parent Leadership Conference
DESCRIPTION:The 2026 BCCPAC Parent Leadership Conference is being held in Richmond\, BC on April 24 \,2026. For details on this event\, see the following BCCPAC page. \nBCCPAC 2026 Parent Leadership Conference
URL:https://sd57dpac.ca/event/2026-parent-leadership-conference/
CATEGORIES:Events,Information Sharing,PACs
END:VEVENT
BEGIN:VEVENT
DTSTART;TZID=America/Vancouver:20260425T080000
DTEND;TZID=America/Vancouver:20260426T120000
DTSTAMP:20260425T210539
CREATED:20260308T094044Z
LAST-MODIFIED:20260308T094044Z
UID:26808-1777104000-1777204800@sd57dpac.ca
SUMMARY:BCCPAC 2026 AGM
DESCRIPTION:The 2026 BCCPAC AGM is being held in Richmond\, BC on April 25th and April 26th. For additional details on this event please refer to the 2026 BCCPAC AGM.
URL:https://sd57dpac.ca/event/bccpac-2026-agm/
CATEGORIES:Events,Information Sharing,PAC Networking,PACs
END:VEVENT
BEGIN:VEVENT
DTSTART;VALUE=DATE:20260630
DTEND;VALUE=DATE:20260701
DTSTAMP:20260425T210539
CREATED:20260308T094106Z
LAST-MODIFIED:20260308T094106Z
UID:26801-1782777600-1782863999@sd57dpac.ca
SUMMARY:Gaming Grant Application Deadline
DESCRIPTION:GAMING GRANT APPLICATION DEADLINE \nGaming grant applications are eligible to be filed between April 1st and June 30th. \nFor information on eligibility requirements and applications\, please refer to the Government of BC website for PAC and DPAC Grants. \nLate applications generally do not get funding.
URL:https://sd57dpac.ca/event/gaming-grant-application-deadline/
CATEGORIES:Information Sharing,PACs
END:VEVENT
END:VCALENDAR