BEGIN:VCALENDAR
VERSION:2.0
PRODID:-//School District 57 DPAC - ECPv6.15.20//NONSGML v1.0//EN
CALSCALE:GREGORIAN
METHOD:PUBLISH
X-WR-CALNAME:School District 57 DPAC
X-ORIGINAL-URL:https://sd57dpac.ca
X-WR-CALDESC:Events for School District 57 DPAC
REFRESH-INTERVAL;VALUE=DURATION:PT1H
X-Robots-Tag:noindex
X-PUBLISHED-TTL:PT1H
BEGIN:VTIMEZONE
TZID:America/Vancouver
BEGIN:DAYLIGHT
TZOFFSETFROM:-0800
TZOFFSETTO:-0700
TZNAME:PDT
DTSTART:20240310T100000
END:DAYLIGHT
BEGIN:STANDARD
TZOFFSETFROM:-0700
TZOFFSETTO:-0800
TZNAME:PST
DTSTART:20241103T090000
END:STANDARD
BEGIN:DAYLIGHT
TZOFFSETFROM:-0800
TZOFFSETTO:-0700
TZNAME:PDT
DTSTART:20250309T100000
END:DAYLIGHT
BEGIN:STANDARD
TZOFFSETFROM:-0700
TZOFFSETTO:-0800
TZNAME:PST
DTSTART:20251102T090000
END:STANDARD
BEGIN:DAYLIGHT
TZOFFSETFROM:-0800
TZOFFSETTO:-0700
TZNAME:PDT
DTSTART:20260308T100000
END:DAYLIGHT
BEGIN:STANDARD
TZOFFSETFROM:-0700
TZOFFSETTO:-0800
TZNAME:PST
DTSTART:20261101T090000
END:STANDARD
END:VTIMEZONE
BEGIN:VEVENT
DTSTART;TZID=America/Vancouver:20250915T113000
DTEND;TZID=America/Vancouver:20250915T133000
DTSTAMP:20260423T024935
CREATED:20250911T045846Z
LAST-MODIFIED:20250916T030730Z
UID:25825-1757935800-1757943000@sd57dpac.ca
SUMMARY:September 2025 [VIRTUAL] DPAC Meeting
DESCRIPTION:UPDATE – This meeting will be virtual only due to scheduling issues. Sorry for any inconvenience this causes and we appreciate your flexibility and patience! \nWe invite you to our DPAC Meeting on Monday\, September 15th.  We will be meeting online with MS Teams at 6:30pm [link below].   \n DOWNLOAD AGENDA \n\nDistrict Representatives and Guests join the meeting at 7:30pm : \n\n\n\n\nSenior Administration\n\n\n\nSchool Board Trustee[s]\n\n\n\nPG Principals and Vice-Principals Association\n\n\n\nPG District Teachers Association\n\n\n\nCUPE 3742 [inside workers]\n\n\n\nDistrict Student Advisory Council\n\n\n\n\n\n\nMark your calendar and plan to join us! \n\n— \nMicrosoft Teams \nJoin the Meeting Now\nMeeting ID:  250 446 462 581 8Passcode:  dj9y3tz6 \n—SD57 DPAC Executive Team info@sd57dpac.ca
URL:https://sd57dpac.ca/event/september-2025-dpac-meeting/
CATEGORIES:Agenda,Events,Monthly Meeting,PAC Networking,Parents Networking
ORGANIZER;CN="SD57 DPAC":MAILTO:info@sd57dpac.ca
END:VEVENT
END:VCALENDAR