BEGIN:VCALENDAR
VERSION:2.0
PRODID:-//School District 57 DPAC - ECPv6.15.20//NONSGML v1.0//EN
CALSCALE:GREGORIAN
METHOD:PUBLISH
X-ORIGINAL-URL:https://sd57dpac.ca
X-WR-CALDESC:Events for School District 57 DPAC
REFRESH-INTERVAL;VALUE=DURATION:PT1H
X-Robots-Tag:noindex
X-PUBLISHED-TTL:PT1H
BEGIN:VTIMEZONE
TZID:America/Vancouver
BEGIN:DAYLIGHT
TZOFFSETFROM:-0800
TZOFFSETTO:-0700
TZNAME:PDT
DTSTART:20240310T100000
END:DAYLIGHT
BEGIN:STANDARD
TZOFFSETFROM:-0700
TZOFFSETTO:-0800
TZNAME:PST
DTSTART:20241103T090000
END:STANDARD
BEGIN:DAYLIGHT
TZOFFSETFROM:-0800
TZOFFSETTO:-0700
TZNAME:PDT
DTSTART:20250309T100000
END:DAYLIGHT
BEGIN:STANDARD
TZOFFSETFROM:-0700
TZOFFSETTO:-0800
TZNAME:PST
DTSTART:20251102T090000
END:STANDARD
BEGIN:DAYLIGHT
TZOFFSETFROM:-0800
TZOFFSETTO:-0700
TZNAME:PDT
DTSTART:20260308T100000
END:DAYLIGHT
BEGIN:STANDARD
TZOFFSETFROM:-0700
TZOFFSETTO:-0800
TZNAME:PST
DTSTART:20261101T090000
END:STANDARD
END:VTIMEZONE
BEGIN:VEVENT
DTSTART;TZID=America/Vancouver:20250303T103000
DTEND;TZID=America/Vancouver:20250303T123000
DTSTAMP:20260423T120906
CREATED:20250223T025939Z
LAST-MODIFIED:20250227T124758Z
UID:25283-1740997800-1741005000@sd57dpac.ca
SUMMARY:March 2025 DPAC Meeting
DESCRIPTION:We invite you to our DPAC Meeting on Monday\, March 3\, 2025. We will be meeting in-person at Van Bien Training Centre or online on MS Teams at 6:30pm. \n[DOWNLOAD AGENDA] \nOur theme is Rural Schools in Mackenzie and McBride. We will be hearing from Principals and PACs from the elementary and secondary schools in these remote communities. We would like to hear about the successes and challenges they face in their areas related to education and community/family engagement. \nThe SD57 District Parent Advisory Council (DPAC) serves a large geographic area including Mackenzie and McBride. We hope to make more connections with parents and PACs in these areas. All parents are welcome! \n•  Morfee Elementary – About Our School [click here]\n•  Mackenzie Secondary – School Message [click here]\n•  McBride Centennial Elementary – Principal’s Message [click here]\n•  McBride Secondary – Principal’s Message [click here] \n\nDistrict  Partners – Join at 7:30pm\n\nOffice of the Superintendent\nBoard of Education\nPrincipals and Vice-Principals Association\nPG District Teachers Association\nCUPE 3742 (inside workers)\nDistrict Student Advisory Council\n\n\nMicrosoft Teams\nJoin the Meeting Now!\nMeeting ID: 264 292 611 842\nPasscode: hW7dZ2Qf \nThere are many other DPAC updates.  Join us! \n— \nSD57 DPAC Executive Team\ninfo@sd57dpac.ca
URL:https://sd57dpac.ca/event/march-2025-dpac-meeting/
LOCATION:Van Bien Training Center\, 311 Wilson Ave.\, Prince George\, BC\, Canada
CATEGORIES:Events,Information Sharing,Monthly Meeting,PAC Networking,PACs,Parents Networking
END:VEVENT
END:VCALENDAR