BEGIN:VCALENDAR
VERSION:2.0
PRODID:-//School District 57 DPAC - ECPv6.15.20//NONSGML v1.0//EN
CALSCALE:GREGORIAN
METHOD:PUBLISH
X-WR-CALNAME:School District 57 DPAC
X-ORIGINAL-URL:https://sd57dpac.ca
X-WR-CALDESC:Events for School District 57 DPAC
REFRESH-INTERVAL;VALUE=DURATION:PT1H
X-Robots-Tag:noindex
X-PUBLISHED-TTL:PT1H
BEGIN:VTIMEZONE
TZID:America/Vancouver
BEGIN:DAYLIGHT
TZOFFSETFROM:-0800
TZOFFSETTO:-0700
TZNAME:PDT
DTSTART:20240310T100000
END:DAYLIGHT
BEGIN:STANDARD
TZOFFSETFROM:-0700
TZOFFSETTO:-0800
TZNAME:PST
DTSTART:20241103T090000
END:STANDARD
BEGIN:DAYLIGHT
TZOFFSETFROM:-0800
TZOFFSETTO:-0700
TZNAME:PDT
DTSTART:20250309T100000
END:DAYLIGHT
BEGIN:STANDARD
TZOFFSETFROM:-0700
TZOFFSETTO:-0800
TZNAME:PST
DTSTART:20251102T090000
END:STANDARD
BEGIN:DAYLIGHT
TZOFFSETFROM:-0800
TZOFFSETTO:-0700
TZNAME:PDT
DTSTART:20260308T100000
END:DAYLIGHT
BEGIN:STANDARD
TZOFFSETFROM:-0700
TZOFFSETTO:-0800
TZNAME:PST
DTSTART:20261101T090000
END:STANDARD
END:VTIMEZONE
BEGIN:VEVENT
DTSTART;TZID=America/Vancouver:20250128T100000
DTEND;TZID=America/Vancouver:20250128T120000
DTSTAMP:20260423T124520
CREATED:20250128T070202Z
LAST-MODIFIED:20250128T070603Z
UID:25103-1738058400-1738065600@sd57dpac.ca
SUMMARY:Long Range Facilities Plan
DESCRIPTION:Many of us have been curious about SD57’s engagement with a consultant to do a Long Range Facilities Plan for 2024-25 to 2033-34. The report is ready to present to the stakeholders and rightsholders. \n\nThe Committee of the Whole is meeting on Tuesday\, January 28th at 6pm in person at the Central Administration Office. We have Tara and Jamie from DPAC Executive attending on our behalf. \n\nYou can watch the livestream\, or the recording will be available after the meeting. Find the information at the district website here: January 28th Committee of the Whole Meeting | School District No. 57 (Prince George) \nLet us know if you have any feedback following the meeting. We will discuss it at our meeting on Monday\, February 3rd or contact us at info@sd57dpac.ca
URL:https://sd57dpac.ca/event/long-range-facilities-plan/
CATEGORIES:Information Sharing,PAC Networking,PACs,Parents Networking
END:VEVENT
END:VCALENDAR