BEGIN:VCALENDAR
VERSION:2.0
PRODID:-//School District 57 DPAC - ECPv6.15.20//NONSGML v1.0//EN
CALSCALE:GREGORIAN
METHOD:PUBLISH
X-ORIGINAL-URL:https://sd57dpac.ca
X-WR-CALDESC:Events for School District 57 DPAC
REFRESH-INTERVAL;VALUE=DURATION:PT1H
X-Robots-Tag:noindex
X-PUBLISHED-TTL:PT1H
BEGIN:VTIMEZONE
TZID:America/Vancouver
BEGIN:DAYLIGHT
TZOFFSETFROM:-0800
TZOFFSETTO:-0700
TZNAME:PDT
DTSTART:20230312T100000
END:DAYLIGHT
BEGIN:STANDARD
TZOFFSETFROM:-0700
TZOFFSETTO:-0800
TZNAME:PST
DTSTART:20231105T090000
END:STANDARD
BEGIN:DAYLIGHT
TZOFFSETFROM:-0800
TZOFFSETTO:-0700
TZNAME:PDT
DTSTART:20240310T100000
END:DAYLIGHT
BEGIN:STANDARD
TZOFFSETFROM:-0700
TZOFFSETTO:-0800
TZNAME:PST
DTSTART:20241103T090000
END:STANDARD
BEGIN:DAYLIGHT
TZOFFSETFROM:-0800
TZOFFSETTO:-0700
TZNAME:PDT
DTSTART:20250309T100000
END:DAYLIGHT
BEGIN:STANDARD
TZOFFSETFROM:-0700
TZOFFSETTO:-0800
TZNAME:PST
DTSTART:20251102T090000
END:STANDARD
END:VTIMEZONE
BEGIN:VEVENT
DTSTART;TZID=America/Vancouver:20240427T040000
DTEND;TZID=America/Vancouver:20240427T070000
DTSTAMP:20260424T032558
CREATED:20240405T022124Z
LAST-MODIFIED:20240419T015513Z
UID:24587-1714190400-1714201200@sd57dpac.ca
SUMMARY:PAC Cafe - April 27th\, 2024
DESCRIPTION:PAC Cafe on April 27th for all members of Parent Advisory Councils! This includes all parents and caregivers who have children in SD57 schools.\n\n\n\n\n\nTHis is a fanastic oppertunity to connect with other parents and PACs in the SD57 area to discuss and share your experiences\, idea\, question and challenges around your childrens educational journey in our school district.\n\nNetwork with other PAC volunteers in your area\nGet ideas from other volunteers doing your job\nEnjoy a catered lunch\n\n\n\nPre-registration is required.\n\nIf you are from Hixon\, Valemount\, MacKenzie or McBride please let us know as we will assist with a mileage reimbursement.\n\nWe charge a fee of $15 per attendee. Please contact dpac@sd57.bc.ca if this is a barrier to your attendance\, as we budget to ensure all are included.\n\nhttps://www.eventbrite.ca/e/861308997397?aff=oddtdtcreator\n\n\n\nQuestions? Please email exec@sd57dpac.ca
URL:https://sd57dpac.ca/event/24587/
LOCATION:Prince George Civic Center\, 808 Canada Games Way\, Prince George\, British Columbia\, V2L 3V9\, Canada
CATEGORIES:Information Sharing,PAC Networking,Parents Networking
ORGANIZER;CN="SD57 DPAC":MAILTO:info@sd57dpac.ca
END:VEVENT
END:VCALENDAR