BEGIN:VCALENDAR
VERSION:2.0
PRODID:-//School District 57 DPAC - ECPv6.15.20//NONSGML v1.0//EN
CALSCALE:GREGORIAN
METHOD:PUBLISH
X-ORIGINAL-URL:https://sd57dpac.ca
X-WR-CALDESC:Events for School District 57 DPAC
REFRESH-INTERVAL;VALUE=DURATION:PT1H
X-Robots-Tag:noindex
X-PUBLISHED-TTL:PT1H
BEGIN:VTIMEZONE
TZID:America/Vancouver
BEGIN:DAYLIGHT
TZOFFSETFROM:-0800
TZOFFSETTO:-0700
TZNAME:PDT
DTSTART:20250309T100000
END:DAYLIGHT
BEGIN:STANDARD
TZOFFSETFROM:-0700
TZOFFSETTO:-0800
TZNAME:PST
DTSTART:20251102T090000
END:STANDARD
BEGIN:DAYLIGHT
TZOFFSETFROM:-0800
TZOFFSETTO:-0700
TZNAME:PDT
DTSTART:20260308T100000
END:DAYLIGHT
BEGIN:STANDARD
TZOFFSETFROM:-0700
TZOFFSETTO:-0800
TZNAME:PST
DTSTART:20261101T090000
END:STANDARD
BEGIN:DAYLIGHT
TZOFFSETFROM:-0800
TZOFFSETTO:-0700
TZNAME:PDT
DTSTART:20270314T100000
END:DAYLIGHT
BEGIN:STANDARD
TZOFFSETFROM:-0700
TZOFFSETTO:-0800
TZNAME:PST
DTSTART:20271107T090000
END:STANDARD
END:VTIMEZONE
BEGIN:VEVENT
DTSTART;VALUE=DATE:20260405
DTEND;VALUE=DATE:20260406
DTSTAMP:20260425T191914
CREATED:20260308T082451Z
LAST-MODIFIED:20260308T082451Z
UID:26764-1775347200-1775433599@sd57dpac.ca
SUMMARY:BCCPAC Conference and AGM Registration Deadline
DESCRIPTION:BCCPAC Member and want to attend the BCCPAC Parent Conference and/or the AGM? \nRegistration Deadline is Today!! \nRegister here: \n2026 Parent Leadership Conference \n2026 AGM Information
URL:https://sd57dpac.ca/event/bccpac-conference-and-agm-registration-deadline/
CATEGORIES:Events,PAC Networking,PACs,Parents Networking
END:VEVENT
BEGIN:VEVENT
DTSTART;VALUE=DATE:20260405
DTEND;VALUE=DATE:20260406
DTSTAMP:20260425T191914
CREATED:20260308T082352Z
LAST-MODIFIED:20260308T082352Z
UID:26767-1775347200-1775433599@sd57dpac.ca
SUMMARY:BCCPAC AGM Proxy Forms Deadline
DESCRIPTION:BCCPAC Member in good standing for 2026 and have a PAC member attending the BCCPAC AGM to cast your vote? \nExcellent! Don’t forget today is the deadline to register a proxy form for your PAC that will allow the chosen representative to attend the AGM and to vote on the behalf of your PAC. \nBCCPAC Member in good standing for 2026 but do not have a PAC member attending the BCCPAC AGM to cast your vote? \nGood News\, your PAC can still send a vote by filling out the proxy form and sending it with one of the attending DPAC Executive members as long as the form is completed and submitted today. \nProxy forms and information available here: \nProxy Forms and FAQs \nIf you have any  questions or concerns\, please reach out to info@sd57dpac.ca. \n 
URL:https://sd57dpac.ca/event/bccpac-agm-proxy-forms-deadline/
CATEGORIES:Events,PACs,Parents Networking
END:VEVENT
END:VCALENDAR